BEGIN:VCALENDAR
VERSION:2.0
PRODID:-//Kurri Kurri Bowling Club - ECPv6.15.20//NONSGML v1.0//EN
CALSCALE:GREGORIAN
METHOD:PUBLISH
X-ORIGINAL-URL:https://kkbc.club
X-WR-CALDESC:Events for Kurri Kurri Bowling Club
REFRESH-INTERVAL;VALUE=DURATION:PT1H
X-Robots-Tag:noindex
X-PUBLISHED-TTL:PT1H
BEGIN:VTIMEZONE
TZID:Australia/Sydney
BEGIN:STANDARD
TZOFFSETFROM:+1100
TZOFFSETTO:+1000
TZNAME:AEST
DTSTART:20240406T160000
END:STANDARD
BEGIN:DAYLIGHT
TZOFFSETFROM:+1000
TZOFFSETTO:+1100
TZNAME:AEDT
DTSTART:20241005T160000
END:DAYLIGHT
BEGIN:STANDARD
TZOFFSETFROM:+1100
TZOFFSETTO:+1000
TZNAME:AEST
DTSTART:20250405T160000
END:STANDARD
BEGIN:DAYLIGHT
TZOFFSETFROM:+1000
TZOFFSETTO:+1100
TZNAME:AEDT
DTSTART:20251004T160000
END:DAYLIGHT
BEGIN:STANDARD
TZOFFSETFROM:+1100
TZOFFSETTO:+1000
TZNAME:AEST
DTSTART:20260404T160000
END:STANDARD
BEGIN:DAYLIGHT
TZOFFSETFROM:+1000
TZOFFSETTO:+1100
TZNAME:AEDT
DTSTART:20261003T160000
END:DAYLIGHT
END:VTIMEZONE
BEGIN:VEVENT
DTSTART;TZID=Australia/Sydney:20251009T113000
DTEND;TZID=Australia/Sydney:20251009T200000
DTSTAMP:20260421T071520
CREATED:20250915T131037Z
LAST-MODIFIED:20250926T015254Z
UID:8895-1760009400-1760040000@kkbc.club
SUMMARY:Members Exclusive: Kids Eat FREE Mon-Thurs during School Holidays
DESCRIPTION:👧🧒 Kids Eat Free These School Holidays! 🎉\nLooking for family-friendly dining during the NSW school holidays? The Kookaburra Brasserie has you covered! \n🍴 When: Monday – Thursday\, lunch & dinner service times✨ Offer: One free kids meal with every adult meal purchased💳 Who: Members only📅 Valid: NSW public school holiday period – Mon 29th Sept – Thursday 9th Oct 2025. Not valid in conjunction with other KKBC lunch or dinner specials \nBring the kids along and enjoy a stress-free (and budget-friendly!) meal at Kurri Kurri Bowling Club.
URL:https://kkbc.club/event/members-exclusive-kids-eat-free-mon-thurs-during-school-holidays/2025-10-09/
ATTACH;FMTTYPE=image/jpeg:https://kkbc.club/wp-content/uploads/2025/09/Lscape-KidsEF.jpg
END:VEVENT
BEGIN:VEVENT
DTSTART;TZID=Australia/Sydney:20251008T113000
DTEND;TZID=Australia/Sydney:20251008T200000
DTSTAMP:20260421T071520
CREATED:20250915T131037Z
LAST-MODIFIED:20250926T015254Z
UID:8894-1759923000-1759953600@kkbc.club
SUMMARY:Members Exclusive: Kids Eat FREE Mon-Thurs during School Holidays
DESCRIPTION:👧🧒 Kids Eat Free These School Holidays! 🎉\nLooking for family-friendly dining during the NSW school holidays? The Kookaburra Brasserie has you covered! \n🍴 When: Monday – Thursday\, lunch & dinner service times✨ Offer: One free kids meal with every adult meal purchased💳 Who: Members only📅 Valid: NSW public school holiday period – Mon 29th Sept – Thursday 9th Oct 2025. Not valid in conjunction with other KKBC lunch or dinner specials \nBring the kids along and enjoy a stress-free (and budget-friendly!) meal at Kurri Kurri Bowling Club.
URL:https://kkbc.club/event/members-exclusive-kids-eat-free-mon-thurs-during-school-holidays/2025-10-08/
ATTACH;FMTTYPE=image/jpeg:https://kkbc.club/wp-content/uploads/2025/09/Lscape-KidsEF.jpg
END:VEVENT
BEGIN:VEVENT
DTSTART;TZID=Australia/Sydney:20251007T113000
DTEND;TZID=Australia/Sydney:20251007T200000
DTSTAMP:20260421T071520
CREATED:20250915T131037Z
LAST-MODIFIED:20250926T015254Z
UID:8893-1759836600-1759867200@kkbc.club
SUMMARY:Members Exclusive: Kids Eat FREE Mon-Thurs during School Holidays
DESCRIPTION:👧🧒 Kids Eat Free These School Holidays! 🎉\nLooking for family-friendly dining during the NSW school holidays? The Kookaburra Brasserie has you covered! \n🍴 When: Monday – Thursday\, lunch & dinner service times✨ Offer: One free kids meal with every adult meal purchased💳 Who: Members only📅 Valid: NSW public school holiday period – Mon 29th Sept – Thursday 9th Oct 2025. Not valid in conjunction with other KKBC lunch or dinner specials \nBring the kids along and enjoy a stress-free (and budget-friendly!) meal at Kurri Kurri Bowling Club.
URL:https://kkbc.club/event/members-exclusive-kids-eat-free-mon-thurs-during-school-holidays/2025-10-07/
ATTACH;FMTTYPE=image/jpeg:https://kkbc.club/wp-content/uploads/2025/09/Lscape-KidsEF.jpg
END:VEVENT
BEGIN:VEVENT
DTSTART;TZID=Australia/Sydney:20251006T113000
DTEND;TZID=Australia/Sydney:20251006T200000
DTSTAMP:20260421T071520
CREATED:20250915T131037Z
LAST-MODIFIED:20250926T015254Z
UID:8892-1759750200-1759780800@kkbc.club
SUMMARY:Members Exclusive: Kids Eat FREE Mon-Thurs during School Holidays
DESCRIPTION:👧🧒 Kids Eat Free These School Holidays! 🎉\nLooking for family-friendly dining during the NSW school holidays? The Kookaburra Brasserie has you covered! \n🍴 When: Monday – Thursday\, lunch & dinner service times✨ Offer: One free kids meal with every adult meal purchased💳 Who: Members only📅 Valid: NSW public school holiday period – Mon 29th Sept – Thursday 9th Oct 2025. Not valid in conjunction with other KKBC lunch or dinner specials \nBring the kids along and enjoy a stress-free (and budget-friendly!) meal at Kurri Kurri Bowling Club.
URL:https://kkbc.club/event/members-exclusive-kids-eat-free-mon-thurs-during-school-holidays/2025-10-06/
ATTACH;FMTTYPE=image/jpeg:https://kkbc.club/wp-content/uploads/2025/09/Lscape-KidsEF.jpg
END:VEVENT
BEGIN:VEVENT
DTSTART;TZID=Australia/Sydney:20251002T113000
DTEND;TZID=Australia/Sydney:20251002T200000
DTSTAMP:20260421T071520
CREATED:20250915T131037Z
LAST-MODIFIED:20250926T015254Z
UID:8891-1759404600-1759435200@kkbc.club
SUMMARY:Members Exclusive: Kids Eat FREE Mon-Thurs during School Holidays
DESCRIPTION:👧🧒 Kids Eat Free These School Holidays! 🎉\nLooking for family-friendly dining during the NSW school holidays? The Kookaburra Brasserie has you covered! \n🍴 When: Monday – Thursday\, lunch & dinner service times✨ Offer: One free kids meal with every adult meal purchased💳 Who: Members only📅 Valid: NSW public school holiday period – Mon 29th Sept – Thursday 9th Oct 2025. Not valid in conjunction with other KKBC lunch or dinner specials \nBring the kids along and enjoy a stress-free (and budget-friendly!) meal at Kurri Kurri Bowling Club.
URL:https://kkbc.club/event/members-exclusive-kids-eat-free-mon-thurs-during-school-holidays/2025-10-02/
ATTACH;FMTTYPE=image/jpeg:https://kkbc.club/wp-content/uploads/2025/09/Lscape-KidsEF.jpg
END:VEVENT
BEGIN:VEVENT
DTSTART;TZID=Australia/Sydney:20251001T113000
DTEND;TZID=Australia/Sydney:20251001T200000
DTSTAMP:20260421T071520
CREATED:20250915T131037Z
LAST-MODIFIED:20250926T015254Z
UID:8890-1759318200-1759348800@kkbc.club
SUMMARY:Members Exclusive: Kids Eat FREE Mon-Thurs during School Holidays
DESCRIPTION:👧🧒 Kids Eat Free These School Holidays! 🎉\nLooking for family-friendly dining during the NSW school holidays? The Kookaburra Brasserie has you covered! \n🍴 When: Monday – Thursday\, lunch & dinner service times✨ Offer: One free kids meal with every adult meal purchased💳 Who: Members only📅 Valid: NSW public school holiday period – Mon 29th Sept – Thursday 9th Oct 2025. Not valid in conjunction with other KKBC lunch or dinner specials \nBring the kids along and enjoy a stress-free (and budget-friendly!) meal at Kurri Kurri Bowling Club.
URL:https://kkbc.club/event/members-exclusive-kids-eat-free-mon-thurs-during-school-holidays/2025-10-01/
ATTACH;FMTTYPE=image/jpeg:https://kkbc.club/wp-content/uploads/2025/09/Lscape-KidsEF.jpg
END:VEVENT
BEGIN:VEVENT
DTSTART;TZID=Australia/Sydney:20250930T113000
DTEND;TZID=Australia/Sydney:20250930T200000
DTSTAMP:20260421T071520
CREATED:20250915T131037Z
LAST-MODIFIED:20250926T015253Z
UID:8889-1759231800-1759262400@kkbc.club
SUMMARY:Members Exclusive: Kids Eat FREE Mon-Thurs during School Holidays
DESCRIPTION:👧🧒 Kids Eat Free These School Holidays! 🎉\nLooking for family-friendly dining during the NSW school holidays? The Kookaburra Brasserie has you covered! \n🍴 When: Monday – Thursday\, lunch & dinner service times✨ Offer: One free kids meal with every adult meal purchased💳 Who: Members only📅 Valid: NSW public school holiday period – Mon 29th Sept – Thursday 9th Oct 2025. Not valid in conjunction with other KKBC lunch or dinner specials \nBring the kids along and enjoy a stress-free (and budget-friendly!) meal at Kurri Kurri Bowling Club.
URL:https://kkbc.club/event/members-exclusive-kids-eat-free-mon-thurs-during-school-holidays/2025-09-30/
ATTACH;FMTTYPE=image/jpeg:https://kkbc.club/wp-content/uploads/2025/09/Lscape-KidsEF.jpg
END:VEVENT
BEGIN:VEVENT
DTSTART;TZID=Australia/Sydney:20250929T113000
DTEND;TZID=Australia/Sydney:20250929T200000
DTSTAMP:20260421T071520
CREATED:20250915T131037Z
LAST-MODIFIED:20250926T015253Z
UID:8887-1759145400-1759176000@kkbc.club
SUMMARY:Members Exclusive: Kids Eat FREE Mon-Thurs during School Holidays
DESCRIPTION:👧🧒 Kids Eat Free These School Holidays! 🎉\nLooking for family-friendly dining during the NSW school holidays? The Kookaburra Brasserie has you covered! \n🍴 When: Monday – Thursday\, lunch & dinner service times✨ Offer: One free kids meal with every adult meal purchased💳 Who: Members only📅 Valid: NSW public school holiday period – Mon 29th Sept – Thursday 9th Oct 2025. Not valid in conjunction with other KKBC lunch or dinner specials \nBring the kids along and enjoy a stress-free (and budget-friendly!) meal at Kurri Kurri Bowling Club.
URL:https://kkbc.club/event/members-exclusive-kids-eat-free-mon-thurs-during-school-holidays/2025-09-29/
ATTACH;FMTTYPE=image/jpeg:https://kkbc.club/wp-content/uploads/2025/09/Lscape-KidsEF.jpg
END:VEVENT
END:VCALENDAR