BEGIN:VCALENDAR
VERSION:2.0
PRODID:-//Kurri Kurri Bowling Club - ECPv6.15.20//NONSGML v1.0//EN
CALSCALE:GREGORIAN
METHOD:PUBLISH
X-WR-CALNAME:Kurri Kurri Bowling Club
X-ORIGINAL-URL:https://kkbc.club
X-WR-CALDESC:Events for Kurri Kurri Bowling Club
REFRESH-INTERVAL;VALUE=DURATION:PT1H
X-Robots-Tag:noindex
X-PUBLISHED-TTL:PT1H
BEGIN:VTIMEZONE
TZID:Australia/Sydney
BEGIN:STANDARD
TZOFFSETFROM:+1100
TZOFFSETTO:+1000
TZNAME:AEST
DTSTART:20240406T160000
END:STANDARD
BEGIN:DAYLIGHT
TZOFFSETFROM:+1000
TZOFFSETTO:+1100
TZNAME:AEDT
DTSTART:20241005T160000
END:DAYLIGHT
BEGIN:STANDARD
TZOFFSETFROM:+1100
TZOFFSETTO:+1000
TZNAME:AEST
DTSTART:20250405T160000
END:STANDARD
BEGIN:DAYLIGHT
TZOFFSETFROM:+1000
TZOFFSETTO:+1100
TZNAME:AEDT
DTSTART:20251004T160000
END:DAYLIGHT
BEGIN:STANDARD
TZOFFSETFROM:+1100
TZOFFSETTO:+1000
TZNAME:AEST
DTSTART:20260404T160000
END:STANDARD
BEGIN:DAYLIGHT
TZOFFSETFROM:+1000
TZOFFSETTO:+1100
TZNAME:AEDT
DTSTART:20261003T160000
END:DAYLIGHT
BEGIN:STANDARD
TZOFFSETFROM:+1100
TZOFFSETTO:+1000
TZNAME:AEST
DTSTART:20270403T160000
END:STANDARD
BEGIN:DAYLIGHT
TZOFFSETFROM:+1000
TZOFFSETTO:+1100
TZNAME:AEDT
DTSTART:20271002T160000
END:DAYLIGHT
END:VTIMEZONE
BEGIN:VEVENT
DTSTART;TZID=Australia/Sydney:20250326T173000
DTEND;TZID=Australia/Sydney:20260831T203000
DTSTAMP:20260422T175251
CREATED:20210729T171026Z
LAST-MODIFIED:20260325T233740Z
UID:704-1743010200-1788208200@kkbc.club
SUMMARY:Wednesday Night - Meat Raffle
DESCRIPTION:🥩🎟 WEDNESDAY MEAT RAFFLES! 🎟🥩 \n🎫 Tickets on Sale: 5:30 PM🎉 Drawn: 6:30 PM \n🔥 MEMBERS BADGE DRAW! 🔥💰 Starts at $4\,000 and goes up by $200 every week if not won!📞 Call Club Reception to check the current jackpot! \n💳 $100 Swipe Attendance Prize! Just swipe in for your chance to win! \n🎡 SPIN & WIN BONUS PRIZES!Get in early – buy your tickets before the draw starts for a shot at extra prizes during ticket sales! \n🐔🥩 Meat trays\, jackpot cash & more – don’t miss your midweek & weekend winning chances! \nSee you at Kurri Kurri Bowling Club!
URL:https://kkbc.club/event/wednesday-raffles/2025-03-26/
LOCATION:NSW
CATEGORIES:Club
ATTACH;FMTTYPE=image/jpeg:https://kkbc.club/wp-content/uploads/2021/07/wednesdayraffle.jpg
END:VEVENT
BEGIN:VEVENT
DTSTART;TZID=Australia/Sydney:20251112T173000
DTEND;TZID=Australia/Sydney:20251112T200000
DTSTAMP:20260422T175251
CREATED:20210729T191935Z
LAST-MODIFIED:20260116T050047Z
UID:7997-1762968600-1762977600@kkbc.club
SUMMARY:Wednesday Night - Buy 1 Main Meal Get the 2nd Half Price
DESCRIPTION:Wednesday Night Special – Members Only! 🎉🍽️\n\n\n\n\n\n\n\n\nBuy any main meal and get the second one HALF PRICE! Exclusive to KKBC Members!
URL:https://kkbc.club/event/wednesday-buy-1-main-meal-get-the-2nd-half-price/2025-11-12/
LOCATION:NSW
CATEGORIES:Restaurant
ATTACH;FMTTYPE=image/jpeg:https://kkbc.club/wp-content/uploads/2021/07/Lscape-WEDS.jpg
END:VEVENT
BEGIN:VEVENT
DTSTART;TZID=Australia/Sydney:20251112T173000
DTEND;TZID=Australia/Sydney:20251112T200000
DTSTAMP:20260422T175251
CREATED:20251007T180055Z
LAST-MODIFIED:20251007T074250Z
UID:8959-1762968600-1762977600@kkbc.club
SUMMARY:MEGA $10\,000 Gift Card Raffle
DESCRIPTION:🎁 MEGA $10\,000 Gift Card Raffle 🎁 \nWednesday\, November 12 | Draw from 6:30PM \nIt’s the biggest raffle of the year at Kurri Kurri Bowling Club — the MEGA $10\,000 Gift Card Giveaway!\nThere are 31 prizes up for grabs\, including two $1\,000 gift cards and two mystery prizes. Don’t miss your chance to take home your share of the winnings! \n🗓 Key Dates \n\nPre-Sale Tickets: Available from Wednesday\, October 29 at Reception\nRaffle Night: Wednesday\, November 12\n\nTicket Sales: From 5:30PM\nDraw Commences: 6:30PM\n\n\n\n💳 Prize Pool – Total Value $10\,000 \n\n2 × $1\,000 Gift Cards\n2 × $750 Gift Cards\n5 × $500 Gift Cards\n1 × $500 Mystery Prize\n1 × $250 Mystery Prize\n10 × $200 Gift Cards\n5 × $150 Gift Cards\n5 × $100 Gift Cards\n\n🎉 31 winners in total! \n🎟 Members Exclusive – Mystery Prize Barrel Draw \nMembers can boost their chances to win with our exclusive Mystery Prize Barrel Draw! \nHere’s how to enter: \n\nSwipe your card at the Redemption Kiosk between Oct 8 – Nov 11.\nEarn up to 3 entries per week.\nBring your collected tickets on Nov 12 and drop them in the Mystery Barrel.\nWinners drawn on the night – you must be present to claim your prize and show your membership card/ID.\n\n💬 “The more weeks you attend\, the more tickets you’ll collect!”\n \n🔥 Don’t Miss Out! \nThis is your chance to share in $10\,000 worth of prizes — grab your tickets early and join us for an exciting night of winning\, fun\, and celebration at Kurri Kurri Bowling Club. \nBook a table at the Kookaburra Brasserie →
URL:https://kkbc.club/event/mega-10000-gift-card-raffle/
LOCATION:Kurri Kurri Bowling Club\, Tarro St\, Kurri Kurri\, NSW\, 2327\, Australia
ATTACH;FMTTYPE=image/jpeg:https://kkbc.club/wp-content/uploads/2025/10/Still-KKBC-Gift-Card-Raffle-Lscape-1920x1080-1-1.jpg
END:VEVENT
END:VCALENDAR