BEGIN:VCALENDAR
VERSION:2.0
PRODID:-//Kurri Kurri Bowling Club - ECPv6.15.20//NONSGML v1.0//EN
CALSCALE:GREGORIAN
METHOD:PUBLISH
X-WR-CALNAME:Kurri Kurri Bowling Club
X-ORIGINAL-URL:https://kkbc.club
X-WR-CALDESC:Events for Kurri Kurri Bowling Club
REFRESH-INTERVAL;VALUE=DURATION:PT1H
X-Robots-Tag:noindex
X-PUBLISHED-TTL:PT1H
BEGIN:VTIMEZONE
TZID:Australia/Sydney
BEGIN:STANDARD
TZOFFSETFROM:+1100
TZOFFSETTO:+1000
TZNAME:AEST
DTSTART:20240406T160000
END:STANDARD
BEGIN:DAYLIGHT
TZOFFSETFROM:+1000
TZOFFSETTO:+1100
TZNAME:AEDT
DTSTART:20241005T160000
END:DAYLIGHT
BEGIN:STANDARD
TZOFFSETFROM:+1100
TZOFFSETTO:+1000
TZNAME:AEST
DTSTART:20250405T160000
END:STANDARD
BEGIN:DAYLIGHT
TZOFFSETFROM:+1000
TZOFFSETTO:+1100
TZNAME:AEDT
DTSTART:20251004T160000
END:DAYLIGHT
BEGIN:STANDARD
TZOFFSETFROM:+1100
TZOFFSETTO:+1000
TZNAME:AEST
DTSTART:20260404T160000
END:STANDARD
BEGIN:DAYLIGHT
TZOFFSETFROM:+1000
TZOFFSETTO:+1100
TZNAME:AEDT
DTSTART:20261003T160000
END:DAYLIGHT
BEGIN:STANDARD
TZOFFSETFROM:+1100
TZOFFSETTO:+1000
TZNAME:AEST
DTSTART:20270403T160000
END:STANDARD
BEGIN:DAYLIGHT
TZOFFSETFROM:+1000
TZOFFSETTO:+1100
TZNAME:AEDT
DTSTART:20271002T160000
END:DAYLIGHT
END:VTIMEZONE
BEGIN:VEVENT
DTSTART;TZID=Australia/Sydney:20250326T173000
DTEND;TZID=Australia/Sydney:20260831T203000
DTSTAMP:20260421T230127
CREATED:20210729T171026Z
LAST-MODIFIED:20260325T233740Z
UID:704-1743010200-1788208200@kkbc.club
SUMMARY:Wednesday Night - Meat Raffle
DESCRIPTION:🥩🎟 WEDNESDAY MEAT RAFFLES! 🎟🥩 \n🎫 Tickets on Sale: 5:30 PM🎉 Drawn: 6:30 PM \n🔥 MEMBERS BADGE DRAW! 🔥💰 Starts at $4\,000 and goes up by $200 every week if not won!📞 Call Club Reception to check the current jackpot! \n💳 $100 Swipe Attendance Prize! Just swipe in for your chance to win! \n🎡 SPIN & WIN BONUS PRIZES!Get in early – buy your tickets before the draw starts for a shot at extra prizes during ticket sales! \n🐔🥩 Meat trays\, jackpot cash & more – don’t miss your midweek & weekend winning chances! \nSee you at Kurri Kurri Bowling Club!
URL:https://kkbc.club/event/wednesday-raffles/2025-03-26/
LOCATION:NSW
CATEGORIES:Club
ATTACH;FMTTYPE=image/jpeg:https://kkbc.club/wp-content/uploads/2021/07/wednesdayraffle.jpg
END:VEVENT
BEGIN:VEVENT
DTSTART;TZID=Australia/Sydney:20260321T193000
DTEND;TZID=Australia/Sydney:20260321T223000
DTSTAMP:20260421T230127
CREATED:20260311T004250Z
LAST-MODIFIED:20260311T004311Z
UID:9962-1774121400-1774132200@kkbc.club
SUMMARY:Tony Camps - LIVE
DESCRIPTION: Join us Saturday 21 March from 7.30pm for live music with Tony Camps (TC). \nA familiar face on the Newcastle music scene\, Tony has been performing for over 40 years\, first making his mark in popular heavy rock bands before later co-creating and performing in the well-known showband The Tributes for almost two decades. He currently fronts the 7-piece band Anthology and now brings his experience and personality to the stage as a solo performer. \nExpect a wide mix of classic hits from the 1960s through to the 2000s\, spanning classic rock\, pop favourites and easy listening crowd-pleasers. \nFree entertainment | All welcomeStarts 7.30pm \nCome down early for dinner and enjoy a great night of live music at the club. 🎶
URL:https://kkbc.club/event/tony-camps-live-2/
LOCATION:Kurri Kurri Bowling Club\, Tarro St\, Kurri Kurri\, NSW\, 2327\, Australia
ATTACH;FMTTYPE=image/jpeg:https://kkbc.club/wp-content/uploads/2026/03/FB-Cover-Tony-Camps.jpg
END:VEVENT
END:VCALENDAR