BEGIN:VCALENDAR
VERSION:2.0
PRODID:-//Kurri Kurri Bowling Club - ECPv6.15.20//NONSGML v1.0//EN
CALSCALE:GREGORIAN
METHOD:PUBLISH
X-WR-CALNAME:Kurri Kurri Bowling Club
X-ORIGINAL-URL:https://kkbc.club
X-WR-CALDESC:Events for Kurri Kurri Bowling Club
REFRESH-INTERVAL;VALUE=DURATION:PT1H
X-Robots-Tag:noindex
X-PUBLISHED-TTL:PT1H
BEGIN:VTIMEZONE
TZID:Australia/Sydney
BEGIN:STANDARD
TZOFFSETFROM:+1100
TZOFFSETTO:+1000
TZNAME:AEST
DTSTART:20240406T160000
END:STANDARD
BEGIN:DAYLIGHT
TZOFFSETFROM:+1000
TZOFFSETTO:+1100
TZNAME:AEDT
DTSTART:20241005T160000
END:DAYLIGHT
BEGIN:STANDARD
TZOFFSETFROM:+1100
TZOFFSETTO:+1000
TZNAME:AEST
DTSTART:20250405T160000
END:STANDARD
BEGIN:DAYLIGHT
TZOFFSETFROM:+1000
TZOFFSETTO:+1100
TZNAME:AEDT
DTSTART:20251004T160000
END:DAYLIGHT
BEGIN:STANDARD
TZOFFSETFROM:+1100
TZOFFSETTO:+1000
TZNAME:AEST
DTSTART:20260404T160000
END:STANDARD
BEGIN:DAYLIGHT
TZOFFSETFROM:+1000
TZOFFSETTO:+1100
TZNAME:AEDT
DTSTART:20261003T160000
END:DAYLIGHT
BEGIN:STANDARD
TZOFFSETFROM:+1100
TZOFFSETTO:+1000
TZNAME:AEST
DTSTART:20270403T160000
END:STANDARD
BEGIN:DAYLIGHT
TZOFFSETFROM:+1000
TZOFFSETTO:+1100
TZNAME:AEDT
DTSTART:20271002T160000
END:DAYLIGHT
END:VTIMEZONE
BEGIN:VEVENT
DTSTART;TZID=Australia/Sydney:20250326T173000
DTEND;TZID=Australia/Sydney:20260831T203000
DTSTAMP:20260420T182312
CREATED:20210729T171026Z
LAST-MODIFIED:20260325T233740Z
UID:704-1743010200-1788208200@kkbc.club
SUMMARY:Wednesday Night - Meat Raffle
DESCRIPTION:🥩🎟 WEDNESDAY MEAT RAFFLES! 🎟🥩 \n🎫 Tickets on Sale: 5:30 PM🎉 Drawn: 6:30 PM \n🔥 MEMBERS BADGE DRAW! 🔥💰 Starts at $4\,000 and goes up by $200 every week if not won!📞 Call Club Reception to check the current jackpot! \n💳 $100 Swipe Attendance Prize! Just swipe in for your chance to win! \n🎡 SPIN & WIN BONUS PRIZES!Get in early – buy your tickets before the draw starts for a shot at extra prizes during ticket sales! \n🐔🥩 Meat trays\, jackpot cash & more – don’t miss your midweek & weekend winning chances! \nSee you at Kurri Kurri Bowling Club!
URL:https://kkbc.club/event/wednesday-raffles/2025-03-26/
LOCATION:NSW
CATEGORIES:Club
ATTACH;FMTTYPE=image/jpeg:https://kkbc.club/wp-content/uploads/2021/07/wednesdayraffle.jpg
END:VEVENT
BEGIN:VEVENT
DTSTART;TZID=Australia/Sydney:20260402T173000
DTEND;TZID=Australia/Sydney:20260402T200000
DTSTAMP:20260420T182312
CREATED:20250915T125602Z
LAST-MODIFIED:20250915T125602Z
UID:9665-1775151000-1775160000@kkbc.club
SUMMARY:Thursday Night - $16 Schnitzel for Members
DESCRIPTION:Thursday $16 Schnitty Night at Kookaburra BrasserieEvery Thursday night is Schnitty Night at KKBC! Members can enjoy a golden\, crispy schnitzel served with their choice of two sides and complimentary gravy – all for just $16. A perfect midweek dinner favourite at an unbeatable price!
URL:https://kkbc.club/event/thursday-night-16-schnitzel-for-members/2026-04-02/
LOCATION:NSW
ATTACH;FMTTYPE=image/jpeg:https://kkbc.club/wp-content/uploads/2025/09/Lscape-THURS.jpg
END:VEVENT
BEGIN:VEVENT
DTSTART;TZID=Australia/Sydney:20260402T173000
DTEND;TZID=Australia/Sydney:20260402T200000
DTSTAMP:20260420T182312
CREATED:20260312T234836Z
LAST-MODIFIED:20260318T014744Z
UID:10059-1775151000-1775160000@kkbc.club
SUMMARY:Easter Seafood Raffle
DESCRIPTION:Easter Seafood Raffle – Kurri Bowling Club \nJoin us this Thursday 2nd April 2026\, for our Seafood Raffle at Kurri Bowling Club. \nWith 32 seafood trays to be won plus Club vouchers\, there are plenty of chances to take home a fresh and delicious prize for the Easter long weekend. \nTickets on sale: 5:30pmFirst draw: 6:30pm \nBring your friends\, grab your tickets and enjoy a great night at the club while you try your luck at winning some fantastic seafood. 🦐🎟️
URL:https://kkbc.club/event/seafood-raffle-good-friday/
LOCATION:Kurri Kurri Bowling Club\, Tarro St\, Kurri Kurri\, NSW\, 2327\, Australia
ATTACH;FMTTYPE=image/jpeg:https://kkbc.club/wp-content/uploads/2026/03/Good-Fri-Seafood-1.jpg
END:VEVENT
BEGIN:VEVENT
DTSTART;TZID=Australia/Sydney:20260402T180000
DTEND;TZID=Australia/Sydney:20260402T200000
DTSTAMP:20260420T182312
CREATED:20231108T030815Z
LAST-MODIFIED:20260116T045552Z
UID:8026-1775152800-1775160000@kkbc.club
SUMMARY:Cash Housie - Thursday Nights
DESCRIPTION:🚁💰 THURSDAY NIGHT CASH HOUSIE – SUPPORT WESTPAC RESCUE HELICOPTER! 💰🚁 \nPlay\, win\, and make a difference! Join us every Thursday night for Cash Housie\, where you can score BIG CASH PRIZES while supporting the Westpac Rescue Helicopter Service! 🚁❤️ \n📅 Every Thursday 📍 \n📚 PETS available from: 6:15pm🔢 Eyes Down: 7:00pm \nYour participation helps keep this vital service in the air! Have fun\, win big\, and support a great cause! \n#CashHousie #SupportWestpacRescue #WinBig #KKBC #PlayForACause \nPlease note: No games Thursday 25th December and Thursday 1st January \nKURRI KURRI – TWO SESSION FLYER
URL:https://kkbc.club/event/cash-houise-2-3/2026-04-02/
LOCATION:NSW
ATTACH;FMTTYPE=image/jpeg:https://kkbc.club/wp-content/uploads/2023/11/Cash-Housie.jpg
END:VEVENT
END:VCALENDAR