BEGIN:VCALENDAR
VERSION:2.0
PRODID:-//Kurri Kurri Bowling Club - ECPv6.15.20//NONSGML v1.0//EN
CALSCALE:GREGORIAN
METHOD:PUBLISH
X-WR-CALNAME:Kurri Kurri Bowling Club
X-ORIGINAL-URL:https://kkbc.club
X-WR-CALDESC:Events for Kurri Kurri Bowling Club
REFRESH-INTERVAL;VALUE=DURATION:PT1H
X-Robots-Tag:noindex
X-PUBLISHED-TTL:PT1H
BEGIN:VTIMEZONE
TZID:Australia/Sydney
BEGIN:STANDARD
TZOFFSETFROM:+1100
TZOFFSETTO:+1000
TZNAME:AEST
DTSTART:20220402T160000
END:STANDARD
BEGIN:DAYLIGHT
TZOFFSETFROM:+1000
TZOFFSETTO:+1100
TZNAME:AEDT
DTSTART:20221001T160000
END:DAYLIGHT
BEGIN:STANDARD
TZOFFSETFROM:+1100
TZOFFSETTO:+1000
TZNAME:AEST
DTSTART:20230401T160000
END:STANDARD
BEGIN:DAYLIGHT
TZOFFSETFROM:+1000
TZOFFSETTO:+1100
TZNAME:AEDT
DTSTART:20230930T160000
END:DAYLIGHT
BEGIN:STANDARD
TZOFFSETFROM:+1100
TZOFFSETTO:+1000
TZNAME:AEST
DTSTART:20240406T160000
END:STANDARD
BEGIN:DAYLIGHT
TZOFFSETFROM:+1000
TZOFFSETTO:+1100
TZNAME:AEDT
DTSTART:20241005T160000
END:DAYLIGHT
END:VTIMEZONE
BEGIN:VEVENT
DTSTART;TZID=Australia/Sydney:20231107T113000
DTEND;TZID=Australia/Sydney:20231107T160000
DTSTAMP:20260420T164756
CREATED:20231010T205013Z
LAST-MODIFIED:20231109T025516Z
UID:5522-1699356600-1699372800@kkbc.club
SUMMARY:Melbourne Cup Day Luncheon
DESCRIPTION:FROCK UP FOR THE CUP \n\n\n\nMelbourne Cup Day Luncheon on Tuesday November 7th!\n\nEnjoy a 2-course meal plus a complimentary drink for just $40.\nWin exciting prizes for the best dressed male/female or fascinator.\nLive entertainment – Anthony Lee\n\n\nCatch the race on the big screens with all TAB facilities available.\n\n\nBookings are essential\, so don’t miss out!\n\n\nhttps://www.trybooking.com/CMGKU
URL:https://kkbc.club/event/melbourne-cup-day-luncheon/
LOCATION:NSW
CATEGORIES:Club
ATTACH;FMTTYPE=image/png:https://kkbc.club/wp-content/uploads/2022/09/Melbourne-Cup-MS-1640-×-924mm-7.png
END:VEVENT
END:VCALENDAR